BEGIN:VCALENDAR
VERSION:2.0
PRODID:-//Cameron Art Museum - ECPv6.15.20//NONSGML v1.0//EN
CALSCALE:GREGORIAN
METHOD:PUBLISH
X-WR-CALNAME:Cameron Art Museum
X-ORIGINAL-URL:https://cameronartmuseum.org
X-WR-CALDESC:Events for Cameron Art Museum
REFRESH-INTERVAL;VALUE=DURATION:PT1H
X-Robots-Tag:noindex
X-PUBLISHED-TTL:PT1H
BEGIN:VTIMEZONE
TZID:Asia/Karachi
BEGIN:STANDARD
TZOFFSETFROM:+0500
TZOFFSETTO:+0500
TZNAME:PKT
DTSTART:20230101T000000
END:STANDARD
END:VTIMEZONE
BEGIN:VEVENT
DTSTART;TZID=Asia/Karachi:20241102T110000
DTEND;TZID=Asia/Karachi:20241102T140000
DTSTAMP:20260421T102959
CREATED:20240927T230759Z
LAST-MODIFIED:20260327T062014Z
UID:10000390-1730545200-1730556000@cameronartmuseum.org
SUMMARY:Veterans Creative Arts Program: Floating Lantern Making at Cameron Art Museum
DESCRIPTION:Free for veterans \nCameron Art Museum\, in collaboration with the Veterans Creative Arts Program\, invites veterans to the museum for a morning of artful lantern-making and conversation on Saturday\, November 2\, from 11 am -2 pm. For 9 years\, CAM has held its Floating Lantern Ceremony in January\, an annual gathering of remembrance\, reflection\, and gratitude. Join Director of Lifelong Learning September Krueger as she leads the group in creating lanterns that can be used for this ceremony or for personal remembrance. All supplies and instruction are provided. The Floating Lantern Ceremony will be held at CAM’s reflection pond on the evening of Sunday\, January 5\, 2025 and CAM invites participants to return to CAM to float their lanterns on the museum pond. \nFor more information\, contact September Krueger at 910-726-9486 \nRegister
URL:https://cameronartmuseum.org/event/veterans-creative-arts-program-floating-lantern-making-at-cameron-art-museum/
LOCATION:NC
CATEGORIES:Program
ATTACH;FMTTYPE=image/jpeg:https://cameronartmuseum.org/wp-content/uploads/2024/09/20240108FloatingLanterns112-scaled.jpg
END:VEVENT
END:VCALENDAR