BEGIN:VCALENDAR
VERSION:2.0
PRODID:-//Cameron Art Museum - ECPv6.15.20//NONSGML v1.0//EN
CALSCALE:GREGORIAN
METHOD:PUBLISH
X-ORIGINAL-URL:https://cameronartmuseum.org
X-WR-CALDESC:Events for Cameron Art Museum
REFRESH-INTERVAL;VALUE=DURATION:PT1H
X-Robots-Tag:noindex
X-PUBLISHED-TTL:PT1H
BEGIN:VTIMEZONE
TZID:America/New_York
BEGIN:DAYLIGHT
TZOFFSETFROM:-0500
TZOFFSETTO:-0400
TZNAME:EDT
DTSTART:20240310T070000
END:DAYLIGHT
BEGIN:STANDARD
TZOFFSETFROM:-0400
TZOFFSETTO:-0500
TZNAME:EST
DTSTART:20241103T060000
END:STANDARD
BEGIN:DAYLIGHT
TZOFFSETFROM:-0500
TZOFFSETTO:-0400
TZNAME:EDT
DTSTART:20250309T070000
END:DAYLIGHT
BEGIN:STANDARD
TZOFFSETFROM:-0400
TZOFFSETTO:-0500
TZNAME:EST
DTSTART:20251102T060000
END:STANDARD
BEGIN:DAYLIGHT
TZOFFSETFROM:-0500
TZOFFSETTO:-0400
TZNAME:EDT
DTSTART:20260308T070000
END:DAYLIGHT
BEGIN:STANDARD
TZOFFSETFROM:-0400
TZOFFSETTO:-0500
TZNAME:EST
DTSTART:20261101T060000
END:STANDARD
END:VTIMEZONE
BEGIN:VEVENT
DTSTART;TZID=America/New_York:20251113T100000
DTEND;TZID=America/New_York:20251113T110000
DTSTAMP:20260420T134833
CREATED:20251009T140757Z
LAST-MODIFIED:20251010T183152Z
UID:10000898-1763028000-1763031600@cameronartmuseum.org
SUMMARY:Mary's Art Explorers at Airlie Gardens
DESCRIPTION:Mary’s Art Explorers at Airlie Gardens\nNovember 13 | 10-11 AM\nAirlie Gardens | 300 Airlie Rd\, Wilmington\, NC 28403 \nJoin us for a special Art Explorers field trip to Airlie Gardens! Mary’s Art Explorers is perfect for infants\, toddlers\, and preschoolers\, though older siblings are welcome to join the fun. Get hands-on! \nOur field trip includes admission to Airlie Gardens and a special reading of I Don’t Wanna Hibernate! by Anna Ouchchy\, illustrated by Raahat Kaduji. The author of the book\, Anna Ouchchy\, will be our guest reader! \nDive into nature with us! The focus of this special Mary’s Art Explorers is hibernation and migration. Don’t miss this unique chance to connect with nature and nurture creativity in one of the area’s most stunning gardens! \nMary’s Art Explorers honors the legacy of Mary Cameron Hoey\, with each session fostering creativity and a love for art in young minds. Come and create lasting memories with us! \nRegistration\nPre-register to secure your spot! Registration is handled through Airlie Gardens at the link above. \nYou can learn more about CAM programs and events here.
URL:https://cameronartmuseum.org/event/marys-art-explorers-at-airlie-gardens-3/
LOCATION:NC
CATEGORIES:Mary's Art Explorers
ATTACH;FMTTYPE=image/jpeg:https://cameronartmuseum.org/wp-content/uploads/2025/08/Marys-Art-Explorers-Web-Graphics-May-Aug-2.jpg
END:VEVENT
END:VCALENDAR