BEGIN:VCALENDAR
VERSION:2.0
PRODID:-//Cameron Art Museum - ECPv6.15.20//NONSGML v1.0//EN
CALSCALE:GREGORIAN
METHOD:PUBLISH
X-WR-CALNAME:Cameron Art Museum
X-ORIGINAL-URL:https://cameronartmuseum.org
X-WR-CALDESC:Events for Cameron Art Museum
REFRESH-INTERVAL;VALUE=DURATION:PT1H
X-Robots-Tag:noindex
X-PUBLISHED-TTL:PT1H
BEGIN:VTIMEZONE
TZID:America/New_York
BEGIN:DAYLIGHT
TZOFFSETFROM:-0500
TZOFFSETTO:-0400
TZNAME:EDT
DTSTART:20240310T070000
END:DAYLIGHT
BEGIN:STANDARD
TZOFFSETFROM:-0400
TZOFFSETTO:-0500
TZNAME:EST
DTSTART:20241103T060000
END:STANDARD
BEGIN:DAYLIGHT
TZOFFSETFROM:-0500
TZOFFSETTO:-0400
TZNAME:EDT
DTSTART:20250309T070000
END:DAYLIGHT
BEGIN:STANDARD
TZOFFSETFROM:-0400
TZOFFSETTO:-0500
TZNAME:EST
DTSTART:20251102T060000
END:STANDARD
BEGIN:DAYLIGHT
TZOFFSETFROM:-0500
TZOFFSETTO:-0400
TZNAME:EDT
DTSTART:20260308T070000
END:DAYLIGHT
BEGIN:STANDARD
TZOFFSETFROM:-0400
TZOFFSETTO:-0500
TZNAME:EST
DTSTART:20261101T060000
END:STANDARD
END:VTIMEZONE
BEGIN:VTIMEZONE
TZID:America/New_York
BEGIN:DAYLIGHT
TZOFFSETFROM:-0500
TZOFFSETTO:-0400
TZNAME:EDT
DTSTART:20240310T070000
END:DAYLIGHT
BEGIN:STANDARD
TZOFFSETFROM:-0400
TZOFFSETTO:-0500
TZNAME:EST
DTSTART:20241103T060000
END:STANDARD
BEGIN:DAYLIGHT
TZOFFSETFROM:-0500
TZOFFSETTO:-0400
TZNAME:EDT
DTSTART:20250309T070000
END:DAYLIGHT
BEGIN:STANDARD
TZOFFSETFROM:-0400
TZOFFSETTO:-0500
TZNAME:EST
DTSTART:20251102T060000
END:STANDARD
BEGIN:DAYLIGHT
TZOFFSETFROM:-0500
TZOFFSETTO:-0400
TZNAME:EDT
DTSTART:20260308T070000
END:DAYLIGHT
BEGIN:STANDARD
TZOFFSETFROM:-0400
TZOFFSETTO:-0500
TZNAME:EST
DTSTART:20261101T060000
END:STANDARD
END:VTIMEZONE
BEGIN:VEVENT
DTSTART;TZID=America/New_York:20251009T100000
DTEND;TZID=America/New_York:20251009T110000
DTSTAMP:20260420T152541
CREATED:20250925T183230Z
LAST-MODIFIED:20251007T155016Z
UID:10000610-1760004000-1760007600@cameronartmuseum.org
SUMMARY:Mary’s Art Explorers at Trask Farms
DESCRIPTION:Mary’s Art Explorers at Trask Farms\nThursday\, October 9th | 10 – 11 AM\nTrask Farms | 3650 Blue Clay Road\, Castle Hayne\, NC\, United States\, 28429. \nJoin us for a special Mary’s Art Explorers field trip to Trask Farms! Perfect for infants\, toddlers\, and preschoolers\, though older siblings are welcome to join the fun. Get hands-on! \nThis field trip includes access to the farm and a special reading of If You Find a Leaf by Aimee Jicuro. After story time\, kids will create their own imaginative\, story-inspired crafts. Dive into the farm setting with us! Don’t miss this unique opportunity to connect with nature\, explore new ideas\, and make art together in one of our community’s favorite places to connect with nature and community.. \nMary’s Art Explorers honors the legacy of Mary Cameron Hoey\, with each session fostering creativity and a love for art in young minds. Come and create lasting memories with us! \n👉 FREE for everyone. Please RSVP here.\n🌽 Want to extend your day at Trask Farms? This year’s Corn Maze is inspired by CAM! Tickets for the maze are available separately and can be purchased here. \nYou can learn more about CAM programs and events here.
URL:https://cameronartmuseum.org/event/marys-art-explorers-at-trask-farms/
LOCATION:NC
CATEGORIES:Mary's Art Explorers
ATTACH;FMTTYPE=image/jpeg:https://cameronartmuseum.org/wp-content/uploads/2025/09/MAE-at-Trask-Event-Graphics.jpg
END:VEVENT
BEGIN:VEVENT
DTSTART;TZID=America/New_York:20251023T100000
DTEND;TZID=America/New_York:20251023T110000
DTSTAMP:20260420T152541
CREATED:20250819T171803Z
LAST-MODIFIED:20251010T174147Z
UID:10000606-1761213600-1761217200@cameronartmuseum.org
SUMMARY:Mary's Art Explorers at Airlie Gardens
DESCRIPTION:Mary’s Art Explorers at Airlie Gardens\nOctober 23 | 10 AM\nAirlie Gardens | 300 Airlie Rd\, Wilmington\, NC 28403 \nJoin us for a special Art Explorers field trip to Airlie Gardens! Mary’s Art Explorers is perfect for infants\, toddlers\, and preschoolers\, though older siblings are welcome to join the fun. Get hands-on! \nOur field trip includes admission to Airlie Gardens and a special reading of Bats at the Beach by Brian Lies. After\, kids can create their own bat-inspired crafts. \nDive into nature with us! Don’t miss this unique chance to connect with nature and nurture creativity in one of the area’s most stunning gardens. We’re looking forward to a day of exploration\, learning\, and artistic fun! \nMary’s Art Explorers honors the legacy of Mary Cameron Hoey\, with each session fostering creativity and a love for art in young minds. Come and create lasting memories with us! \nRegistration\nPre-register to secure your spot! Registration is handled through Airlie Gardens at the link above. \nYou can learn more about CAM programs and events here.
URL:https://cameronartmuseum.org/event/marys-art-explorers-at-airlie-gardens/
LOCATION:NC
CATEGORIES:Mary's Art Explorers
ATTACH;FMTTYPE=image/jpeg:https://cameronartmuseum.org/wp-content/uploads/2025/08/Marys-Art-Explorers-Web-Graphics-May-Aug-2.jpg
END:VEVENT
END:VCALENDAR