BEGIN:VCALENDAR
VERSION:2.0
PRODID:-//Cameron Art Museum - ECPv6.15.20//NONSGML v1.0//EN
CALSCALE:GREGORIAN
METHOD:PUBLISH
X-ORIGINAL-URL:https://cameronartmuseum.org
X-WR-CALDESC:Events for Cameron Art Museum
REFRESH-INTERVAL;VALUE=DURATION:PT1H
X-Robots-Tag:noindex
X-PUBLISHED-TTL:PT1H
BEGIN:VTIMEZONE
TZID:America/New_York
BEGIN:DAYLIGHT
TZOFFSETFROM:-0500
TZOFFSETTO:-0400
TZNAME:EDT
DTSTART:20240310T070000
END:DAYLIGHT
BEGIN:STANDARD
TZOFFSETFROM:-0400
TZOFFSETTO:-0500
TZNAME:EST
DTSTART:20241103T060000
END:STANDARD
BEGIN:DAYLIGHT
TZOFFSETFROM:-0500
TZOFFSETTO:-0400
TZNAME:EDT
DTSTART:20250309T070000
END:DAYLIGHT
BEGIN:STANDARD
TZOFFSETFROM:-0400
TZOFFSETTO:-0500
TZNAME:EST
DTSTART:20251102T060000
END:STANDARD
BEGIN:DAYLIGHT
TZOFFSETFROM:-0500
TZOFFSETTO:-0400
TZNAME:EDT
DTSTART:20260308T070000
END:DAYLIGHT
BEGIN:STANDARD
TZOFFSETFROM:-0400
TZOFFSETTO:-0500
TZNAME:EST
DTSTART:20261101T060000
END:STANDARD
END:VTIMEZONE
BEGIN:VEVENT
DTSTART;TZID=America/New_York:20250911T100000
DTEND;TZID=America/New_York:20250911T110000
DTSTAMP:20260420T165919
CREATED:20250806T201359Z
LAST-MODIFIED:20250806T201359Z
UID:10000583-1757584800-1757588400@cameronartmuseum.org
SUMMARY:Mary's Art Explorers: Hey\, Wall
DESCRIPTION:Join us for Mary’s Art Explorers on Thursday\, September 11\, from 10:00 to 11:00 AM. We’ll be reading Hey\, Wall by Susan Verde\, illustrated by John Parra. After\, we’ll create a story-inspired craft.  \nThis storytime session is perfect for infants\, toddlers\, and preschoolers\, though older siblings are welcome to join. Your registration includes admission to the museum for the whole day\, so you and your little ones can continue exploring after the program. Space is limited\, so preregister to guarantee your spot! \n\n\n\nAdult CAM Members: free\, Adult non-members: $5\n\n\nChildren: $5 each\n\n\nChildren under 2: free\n\n\n*EBT Card Holders FREE\n\n\n  \nPre-register at the link below to secure your spot! \nNon-Members: Register Here \nMembers: Register Here \n  \n  \nIt is with great honor that Cameron Art Museum pays tribute to Mary Cameron Hoey by naming its most popular and long-standing family program after her. Mary’s Art Explorers is a story time\, art making\, and museum exploration program. \nYou can learn more about CAM programs and events here.
URL:https://cameronartmuseum.org/event/marys-art-explorers-hey-wall/
LOCATION:NC
CATEGORIES:Mary's Art Explorers
ATTACH;FMTTYPE=image/png:https://cameronartmuseum.org/wp-content/uploads/2025/08/6.png
END:VEVENT
BEGIN:VEVENT
DTSTART;TZID=America/New_York:20250925T100000
DTEND;TZID=America/New_York:20250925T110000
DTSTAMP:20260420T165919
CREATED:20250806T200619Z
LAST-MODIFIED:20250806T200619Z
UID:10000582-1758794400-1758798000@cameronartmuseum.org
SUMMARY:Mary's Art Explorers with Airlie Gardens: I Can Fly!
DESCRIPTION:Join us for Mary’s Art Explorers on Thursday\, September 25\, from 10:00 to 11:00 AM. We’ll be reading Why Should I Walk? I Can Fly! by Ann Ingalls. After\, participants will go outside to go birding and create a story-inspired craft. \nThis storytime session is perfect for infants\, toddlers\, and preschoolers\, though older siblings are welcome to join. Your registration includes admission to the museum for the whole day\, so you and your little ones can continue exploring after the program. Space is limited\, so preregister to guarantee your spot! \nWe will have a special guest from Airlie Gardens! Together\, we’ll go “birding” outside and create a story-inspired craft. A fun opportunity for the whole family! \n\n\n\nAdult CAM Members: free\, Adult non-members: $5\n\n\nChildren: $5 each\n\n\nChildren under 2: free\n\n\n*EBT Card Holders FREE\n\n\n  \nPre-register at the link below to secure your spot! \nNon-Members: Register Here \nMembers: Register Here \n  \n  \nIt is with great honor that Cameron Art Museum pays tribute to Mary Cameron Hoey by naming its most popular and long-standing family program after her. \nYou can learn more about CAM programs and events here.
URL:https://cameronartmuseum.org/event/marys-art-explorers-with-airlie-gardens/
LOCATION:NC
CATEGORIES:Mary's Art Explorers
ATTACH;FMTTYPE=image/png:https://cameronartmuseum.org/wp-content/uploads/2025/08/7.png
END:VEVENT
END:VCALENDAR