BEGIN:VCALENDAR
VERSION:2.0
PRODID:-//Cameron Art Museum - ECPv6.15.20//NONSGML v1.0//EN
CALSCALE:GREGORIAN
METHOD:PUBLISH
X-ORIGINAL-URL:https://cameronartmuseum.org
X-WR-CALDESC:Events for Cameron Art Museum
REFRESH-INTERVAL;VALUE=DURATION:PT1H
X-Robots-Tag:noindex
X-PUBLISHED-TTL:PT1H
BEGIN:VTIMEZONE
TZID:America/New_York
BEGIN:DAYLIGHT
TZOFFSETFROM:-0500
TZOFFSETTO:-0400
TZNAME:EDT
DTSTART:20240310T070000
END:DAYLIGHT
BEGIN:STANDARD
TZOFFSETFROM:-0400
TZOFFSETTO:-0500
TZNAME:EST
DTSTART:20241103T060000
END:STANDARD
BEGIN:DAYLIGHT
TZOFFSETFROM:-0500
TZOFFSETTO:-0400
TZNAME:EDT
DTSTART:20250309T070000
END:DAYLIGHT
BEGIN:STANDARD
TZOFFSETFROM:-0400
TZOFFSETTO:-0500
TZNAME:EST
DTSTART:20251102T060000
END:STANDARD
BEGIN:DAYLIGHT
TZOFFSETFROM:-0500
TZOFFSETTO:-0400
TZNAME:EDT
DTSTART:20260308T070000
END:DAYLIGHT
BEGIN:STANDARD
TZOFFSETFROM:-0400
TZOFFSETTO:-0500
TZNAME:EST
DTSTART:20261101T060000
END:STANDARD
END:VTIMEZONE
BEGIN:VEVENT
DTSTART;TZID=America/New_York:20250508T100000
DTEND;TZID=America/New_York:20250508T110000
DTSTAMP:20260420T223421
CREATED:20250227T154243Z
LAST-MODIFIED:20250429T195300Z
UID:10000492-1746698400-1746702000@cameronartmuseum.org
SUMMARY:Mary's Art Explorers: Hair and Pelitos
DESCRIPTION:Join us for Mary’s Art Explorers on Thursday\, May 8th\, from 10:00 to 11:00 AM in CAM’s Reception Hall. We’ll be reading Hair and Pelitos: a story in English and Spanish from The House on Mango Street. The book is written by Sandra Cisneros and illustrated by Terry Ybanez. All registrants will recieve a copy of the book\, thanks to the National Endowment of the Arts: Big Read Program\, while supplies last. \nThis storytime session is perfect for infants\, toddlers\, and preschoolers\, though older siblings are welcome to join. Your registration includes admission to the museum for the whole day\, so you and your little ones can continue exploring after the program. Space is limited\, so preregister to guarantee your spot! \n\nAfter\, participants will create a story-inspired craft. This is a great opportunity for the whole family!\n\n  \nPre-register at the link below to secure your spot! \nREGISTER \nCAM Members: $5 per child\nNot-Yet Members: $10 per child\nAdults & Children 2 & Under: Free \nIt is with great honor that Cameron Art Museum pays tribute to Mary Cameron Hoey by naming its most popular and long-standing family program after her. \nYou can learn more about CAM programs and events here.
URL:https://cameronartmuseum.org/event/marys-art-explorers-hair-and-pelitos/
LOCATION:NC
CATEGORIES:Mary's Art Explorers
ATTACH;FMTTYPE=image/jpeg:https://cameronartmuseum.org/wp-content/uploads/2025/02/hairs-and-pelitos.jpg
END:VEVENT
BEGIN:VEVENT
DTSTART;TZID=America/New_York:20250522T100000
DTEND;TZID=America/New_York:20250522T110000
DTSTAMP:20260420T223421
CREATED:20250227T154716Z
LAST-MODIFIED:20250227T154716Z
UID:10000493-1747908000-1747911600@cameronartmuseum.org
SUMMARY:Mary's Art Explorers: The Candy Dish
DESCRIPTION:Join us for Mary’s Art Explorers on Thursday\, May 22nd\, from 10:00 to 11:00 AM in the Pancoe Education Building. We’ll be reading The Candy Dish by Kobi Yamada and illustrated by Adelina Lirius. \nThis storytime session is perfect for infants\, toddlers\, and preschoolers\, though older siblings are welcome to join. Your registration includes admission to the museum for the whole day\, so you and your little ones can continue exploring after the program. Space is limited\, so preregister to guarantee your spot! \n\nAfter\, participants will create a story-inspired craft. This is a great opportunity for the whole family!\n\n  \nPre-register at the link below to secure your spot! \nREGISTER \nCAM Members: $5 per child\nNot-Yet Members: $10 per child\nAdults & Children 2 & Under: Free \nIt is with great honor that Cameron Art Museum pays tribute to Mary Cameron Hoey by naming its most popular and long-standing family program after her. \nYou can learn more about CAM programs and events here.
URL:https://cameronartmuseum.org/event/marys-art-explorers-the-candy-dish/
LOCATION:NC
CATEGORIES:Mary's Art Explorers
ATTACH;FMTTYPE=image/jpeg:https://cameronartmuseum.org/wp-content/uploads/2025/02/the-candy-dish.jpg
END:VEVENT
END:VCALENDAR