BEGIN:VCALENDAR
VERSION:2.0
PRODID:-//Cameron Art Museum - ECPv6.15.20//NONSGML v1.0//EN
CALSCALE:GREGORIAN
METHOD:PUBLISH
X-ORIGINAL-URL:https://cameronartmuseum.org
X-WR-CALDESC:Events for Cameron Art Museum
REFRESH-INTERVAL;VALUE=DURATION:PT1H
X-Robots-Tag:noindex
X-PUBLISHED-TTL:PT1H
BEGIN:VTIMEZONE
TZID:America/New_York
BEGIN:DAYLIGHT
TZOFFSETFROM:-0500
TZOFFSETTO:-0400
TZNAME:EDT
DTSTART:20240310T070000
END:DAYLIGHT
BEGIN:STANDARD
TZOFFSETFROM:-0400
TZOFFSETTO:-0500
TZNAME:EST
DTSTART:20241103T060000
END:STANDARD
BEGIN:DAYLIGHT
TZOFFSETFROM:-0500
TZOFFSETTO:-0400
TZNAME:EDT
DTSTART:20250309T070000
END:DAYLIGHT
BEGIN:STANDARD
TZOFFSETFROM:-0400
TZOFFSETTO:-0500
TZNAME:EST
DTSTART:20251102T060000
END:STANDARD
BEGIN:DAYLIGHT
TZOFFSETFROM:-0500
TZOFFSETTO:-0400
TZNAME:EDT
DTSTART:20260308T070000
END:DAYLIGHT
BEGIN:STANDARD
TZOFFSETFROM:-0400
TZOFFSETTO:-0500
TZNAME:EST
DTSTART:20261101T060000
END:STANDARD
END:VTIMEZONE
BEGIN:VTIMEZONE
TZID:America/New_York
BEGIN:DAYLIGHT
TZOFFSETFROM:-0500
TZOFFSETTO:-0400
TZNAME:EDT
DTSTART:20230312T070000
END:DAYLIGHT
BEGIN:STANDARD
TZOFFSETFROM:-0400
TZOFFSETTO:-0500
TZNAME:EST
DTSTART:20231105T060000
END:STANDARD
BEGIN:DAYLIGHT
TZOFFSETFROM:-0500
TZOFFSETTO:-0400
TZNAME:EDT
DTSTART:20240310T070000
END:DAYLIGHT
BEGIN:STANDARD
TZOFFSETFROM:-0400
TZOFFSETTO:-0500
TZNAME:EST
DTSTART:20241103T060000
END:STANDARD
BEGIN:DAYLIGHT
TZOFFSETFROM:-0500
TZOFFSETTO:-0400
TZNAME:EDT
DTSTART:20250309T070000
END:DAYLIGHT
BEGIN:STANDARD
TZOFFSETFROM:-0400
TZOFFSETTO:-0500
TZNAME:EST
DTSTART:20251102T060000
END:STANDARD
BEGIN:DAYLIGHT
TZOFFSETFROM:-0500
TZOFFSETTO:-0400
TZNAME:EDT
DTSTART:20260308T070000
END:DAYLIGHT
BEGIN:STANDARD
TZOFFSETFROM:-0400
TZOFFSETTO:-0500
TZNAME:EST
DTSTART:20261101T060000
END:STANDARD
END:VTIMEZONE
BEGIN:VEVENT
DTSTART;TZID=America/New_York:20251030T180000
DTEND;TZID=America/New_York:20251030T190000
DTSTAMP:20260423T020417
CREATED:20250924T174008Z
LAST-MODIFIED:20251028T142904Z
UID:10000629-1761847200-1761850800@cameronartmuseum.org
SUMMARY:State of the CAM
DESCRIPTION:State of the CAM: The Year in Review\nThursday\, October 30 at 6 PM | Free for members & the community \nJoin us for a special evening with CAM’s Chief Executive Officer Heather Wilson as we reflect on an extraordinary year of growth and share an inside look at what’s ahead. Together\, we’ll review highlights from the museum’s Annual Report\, celebrate milestones made possible by our members\, and explore the impact of your support on the cultural life of eastern North Carolina. \nThis event is also an opportunity to meet CAM’s staff\, board members\, teaching artists\, and volunteers while connecting with fellow members of our museum community. \nLight refreshments will be provided. CAM Café will offer a special cocktail and cash bar service. \nRSVP HERE\n  \n 
URL:https://cameronartmuseum.org/event/state-of-the-cam/
CATEGORIES:Lecture
ATTACH;FMTTYPE=image/jpeg:https://cameronartmuseum.org/wp-content/uploads/2025/09/State-of-the-CAM-2.jpg
END:VEVENT
BEGIN:VEVENT
DTSTART;TZID=America/New_York:20250223T130000
DTEND;TZID=America/New_York:20250223T140000
DTSTAMP:20260423T020417
CREATED:20241217T181231Z
LAST-MODIFIED:20241217T181251Z
UID:10000431-1740315600-1740319200@cameronartmuseum.org
SUMMARY:Annual Boundless Lecture with Daniel Jones
DESCRIPTION:Join us February 23rd at 1PM in the reception hall for the Annual Boundless Lecture by CAM’s Cultural Curator\, Daniel Jones. This lecture\, A Communities War\, explores the stories of Civil War soldiers from Wilmington and North Carolina’s eastern coast and their post-war contributions to our state. \n  \nFree; $5 suggested donations appreciated. \n\n\n\n\nREGISTER \nLearn more about Boundless and the PNC USCT Park here. \nFor questions or concerns regarding accessibility\, please contact Georgia Mastroieni\, Deputy Director of Operations\, at (910) 726-9492 or georgia@cameronartmuseum.org
URL:https://cameronartmuseum.org/event/boundless-lecture-daniel-jones/
CATEGORIES:Lecture
ATTACH;FMTTYPE=image/jpeg:https://cameronartmuseum.org/wp-content/uploads/2023/10/20231002_PROGRAMS_BoundlessTours.jpg
END:VEVENT
BEGIN:VEVENT
DTSTART;TZID=America/New_York:20240418T180000
DTEND;TZID=America/New_York:20240418T190000
DTSTAMP:20260423T020417
CREATED:20240123T214713Z
LAST-MODIFIED:20240124T221341Z
UID:10000191-1713463200-1713466800@cameronartmuseum.org
SUMMARY:Boundless Lecture & Conversation Series: Tyanna West
DESCRIPTION:Healing Backwards: The Journey of Tracing My Roots \n  \nFree with Museum Admission \n  \nNC State PhD. Candidate\, Tyanna West work centers around Gullah culture in the southeastern region of NC\, specifically the Brunswick County area. \nTyanna Parker-West is a public historian\, performance artist\, and proud Gullah Geechee woman whose Brunswick County roots go back to the early 1800s. Wrapping up her final semester at North Carolina Central University in the Graduate History Department\, Tyanna’s master’s thesis examines the Gullah connection in Brunswick County\, North Carolina. Tyanna is also a first-year PhD student at North Carolina State University\, where her focus areas include African American History and Heritage Preservation. Tyanna is the proud mother of 3 beautiful children\, and married to the love of her life\, David\, for the past 16 years. \n  \n  \nSponsored in part by \n \n  \n  \nREGISTER \n  \nFor questions or concerns regarding accessibility\, please contact Georgia Mastroieni\, Deputy Director of Operations\, at (910) 726-9492 or georgia@cameronartmuseum.org
URL:https://cameronartmuseum.org/event/illustrated-lecture-with-tyanna-west/
CATEGORIES:Lecture
ATTACH;FMTTYPE=image/jpeg:https://cameronartmuseum.org/wp-content/uploads/2024/01/20240418_PROGRAMS_IllustratedLectureTyannaWest.jpg
END:VEVENT
BEGIN:VEVENT
DTSTART;TZID=America/New_York:20240323T140000
DTEND;TZID=America/New_York:20240323T150000
DTSTAMP:20260423T020417
CREATED:20240123T214136Z
LAST-MODIFIED:20240318T190728Z
UID:10000190-1711202400-1711206000@cameronartmuseum.org
SUMMARY:Artifactual Journey with Philip J. Merrill
DESCRIPTION:Free; Registration Required \n  \n  \nCameron Art Museum hosts historian and consultant Philip J. Merrill for an Artifactual Journey of Black North Carolina\, a presentation of specially curated NC artifacts followed by evaluations of select objects and artifacts from the community\, and the opportunity to elect to have newly discovered artifacts published in Merrill’s forthcoming book Artifactual Journey of Black North Carolina (Blair\, 2025). \nPhilip J. Merrill is an author\, historian\, consultant\, and the Founder & CEO of Nanny Jack & Co\, LLC\, an African American heritage consulting firm with thousands of artifacts from 1700s to present day.  He served for eight seasons as a Chesapeake Collectibles appraiser on PBS Maryland Public Television (MPT) and for six seasons as an PBS Antiques Roadshow appraiser as the Black Americana specialist. In 2003\, Towson State University named him a Distinguished Black Marylander.From 2006-2007\, he was an Open Society Institute fellow\, where he developed the “Know History\, Know Self” program at Baltimore’s Booker T. Washington that used artifacts from his company’s archives to teach the students about their school\, family\, and community history.  In 2007\, he was awarded an Honorary Doctorate of Humane Letters from Eastern Theological Seminary. In 2013\, Merrill’s oral history was archived in the Library of Congress by the HistoryMakers for his accomplishments as an African American business and education leader. In 2022\, he was an expert contributor for season 1 of the Discovery Channel show\, Mysteries of the Abandoned: Hidden America and will appear in the upcoming third season. In 2023\, Merrill was appointed to the Maryland Commission on African American History and Culture by Maryland’s first Black governor\, Wes Moore. \nIf you would like to have an artifact from your personal collection considered for historical evaluation by Philip at this event\, please email a photo and a brief description of the item to pjmerrill@nannyjack.com \n  \n  \nREGISTER
URL:https://cameronartmuseum.org/event/artifactual-journey-with-philip-merrill/
CATEGORIES:Lecture
ATTACH;FMTTYPE=image/jpeg:https://cameronartmuseum.org/wp-content/uploads/2024/01/20240323_PROGRAMS_ArtifactualJourneyPhilipMerrill.jpg
END:VEVENT
BEGIN:VEVENT
DTSTART;TZID=America/New_York:20240306T120000
DTEND;TZID=America/New_York:20240306T133000
DTSTAMP:20260423T020417
CREATED:20240123T010913Z
LAST-MODIFIED:20240206T191807Z
UID:10000184-1709726400-1709731800@cameronartmuseum.org
SUMMARY:The Story of a Community Remembrance Project
DESCRIPTION:Free; Pre-registration Required \n  \n  \nIn 2019\, the New Hanover County Community Remembrance Project (NHCCRP) was formed with the goal of conducting a Soil Collection Ceremony under the guidance of the Equal Justice Initiative (EJI)\, headquartered in Montgomery\, Alabama. The program\, which honored the victims of the 1898 Coup & Massacre\, was successfully conducted in 2021. The co-chairmen of the group discuss the experience and the lasting impact of their efforts. \nTim Pinnick is the co-chair and lead researcher for the New Hanover County Community Remembrance Project. His current organizational work consists of continued outreach and interaction with the African American community to assist and guide families with genealogical research.  The end goal is to collect and amplify their stories. \nJim Downey is the co-chair of the New Hanover County Community Remembrance Project. Since 2019\, he has help lead the group to conduct a soil collection ceremony\, a high school essay contest\, and other racial justice projects that support the Equal Justice Initiative’s mission in the Wilmington area. \n  \n  \nREGISTER
URL:https://cameronartmuseum.org/event/the-story-of-a-community-remembrance-project/
CATEGORIES:Lecture
ATTACH;FMTTYPE=image/jpeg:https://cameronartmuseum.org/wp-content/uploads/2024/01/20240306_PROGRAMS_StoryOfCommunityRemembranceProject.jpg
END:VEVENT
BEGIN:VEVENT
DTSTART;TZID=America/New_York:20240217T130000
DTEND;TZID=America/New_York:20240217T140000
DTSTAMP:20260423T020417
CREATED:20240122T222519Z
LAST-MODIFIED:20240124T221251Z
UID:10000176-1708174800-1708178400@cameronartmuseum.org
SUMMARY:Boundless Lecture & Conversation Series: Steve Nunez
DESCRIPTION:Free with Museum Admission \n  \nCurating Ghosts: Abolition\, US Colored Troops\, and the Future of Haunted Memory examines the rich legacy of the US Colored Troop embodied commitment to\, and bodily risk for\, the cause of revolutionary abolitionism. Through a photographer’s lens\, revolutionary theorist Steve Núñez reflects on Stephen Hayes’ Boundless installation at CAM as a shining example of the historical diligence and epistemic integrity required to reckon with the ongoing legacies of the violence central to capitalist systems. \nIn this community conversation commemorating the glorious US Colored Troop victory at the Battle of Forks Road that paved the way for the Confederate surrender at Appomattox\, Núñez shares research from his forthcoming dissertation project\, Abolition as Horizon & Anchor: Sociogeny\, Anti-Violent Insurgency\, and Militant Hope\, which highlights thematic cohesion in abolitionist thought over time through philosophical portraits of David Walker & Maria Stewart\, Frederick Douglass & Harriet Jacobs\, W.E.B. Du Bois & Lucy Parsons\, and George Jackson & Angela Davis. The talk will emphasize philosophical themes such as the centrality of the Southern roots of militant abolitionism\, existential vs. political freedom\, ignorance & responsibility\, and the spectre of “hauntology”. \nImportantly\, the conversation will iterate the moral necessity of curating public (and quasi-public) spaces that tell the truth about the unsavory histories and haunted legacies that shape the spaces we move through today as a necessary condition for building just worlds of tomorrow. \nSteve Núñez (he/they) is a truth-telling storyteller\, graphic artist & photographer\, educator\, and revolutionary theorist from Wilmington\, NC. As Steve performed contract work for the US Department of State as a Personal Security Specialist on an Embassy Protection Detail in Kabul\, Afghanistan\, they sought education as a tool to begin seriously process their personal relationship to structural violence and more intentionally interrogate the relationship between Islamophobia\, anti-Blackness\, and US public policy. As a scholar and champion of the insurgent abolitionist tradition of Southeastern North Carolina advanced through David Walker\, Steve is a vocal proponent and militant practitioner of the contemporary movement to abolish the punishment enterprise\, the ideology of racial capitalism at its root\, and the carceral logics relying on violent punishment as an appropriate mechanism of social control. \nSteve holds a Bachelor of Arts (BA) with majors in Philosophy & Religion (dual concentration) and Anthropology and minor certificates in Classical Studies and Middle East & Islamic Studies from the University of North Carolina-Wilmington (UNCW) as well as a Master of Theological Studies (MTS) in Religion\, Ethics\, and Politics from Harvard Divinity School. He is currently an advanced Doctoral Candidate in the Philosophy Department at the University of Connecticut (UConn) with areas of specialization in existential phenomenology\, Africana philosophy\, decolonial theory\, and abolition & carceral studies. He is actively completing research for a dissertation entitled “Abolition as Horizon and Anchor: Sociogeny\, Insurgency\, and Hope\,” a philosophical history which excavates the Black existential roots of abolitionism in the US through philosophical portraits of the abolitionist thought and practice of David Walker and Maria Stewart\, Frederick Douglass and Harriet Jacobs\, W.E.B. Du Bois and Lucy Parsons\, and George Jackson and Angela Davis. \n  \nSponsored in part by \n \n  \nREGISTER \n  \nFor questions or concerns regarding accessibility\, please contact Georgia Mastroieni\, Deputy Director of Operations\, at (910) 726-9492 or georgia@cameronartmuseum.org
URL:https://cameronartmuseum.org/event/illustrated-lecture-with-steve-nunez/
CATEGORIES:Lecture
ATTACH;FMTTYPE=image/jpeg:https://cameronartmuseum.org/wp-content/uploads/2024/01/20240217_PROGRAMS_IllustratedLectureSteveNunez.jpg
END:VEVENT
BEGIN:VEVENT
DTSTART;TZID=America/New_York:20240118T190000
DTEND;TZID=America/New_York:20240118T200000
DTSTAMP:20260423T020417
CREATED:20231006T220809Z
LAST-MODIFIED:20231211T202011Z
UID:10000082-1705604400-1705608000@cameronartmuseum.org
SUMMARY:Illustrated Lecture with Joel Cook
DESCRIPTION:Free with Museum Admission \n  \nJoel Cook is an archaeologist and historian as well as the host of the award-winning PBS NC series\, Rogue History. He has experience as a historical researcher in topics ranging from the American Revolution to the Second World War\, but his research focuses primarily on the Reconstruction era. He holds an MA in Maritime Studies from East Carolina University and a BA in History from Fayetteville State University. \n  \nSponsored in part by \n \n  \nREGISTER
URL:https://cameronartmuseum.org/event/illustrated-lecture-with-joel-cook/
CATEGORIES:Lecture
ATTACH;FMTTYPE=image/jpeg:https://cameronartmuseum.org/wp-content/uploads/2023/10/20240118_PROGRAMS_IllustratedLectureJoelCook.jpg
END:VEVENT
END:VCALENDAR