BEGIN:VCALENDAR
VERSION:2.0
PRODID:-//Cameron Art Museum - ECPv6.15.20//NONSGML v1.0//EN
CALSCALE:GREGORIAN
METHOD:PUBLISH
X-WR-CALNAME:Cameron Art Museum
X-ORIGINAL-URL:https://cameronartmuseum.org
X-WR-CALDESC:Events for Cameron Art Museum
REFRESH-INTERVAL;VALUE=DURATION:PT1H
X-Robots-Tag:noindex
X-PUBLISHED-TTL:PT1H
BEGIN:VTIMEZONE
TZID:America/New_York
BEGIN:DAYLIGHT
TZOFFSETFROM:-0500
TZOFFSETTO:-0400
TZNAME:EDT
DTSTART:20230312T070000
END:DAYLIGHT
BEGIN:STANDARD
TZOFFSETFROM:-0400
TZOFFSETTO:-0500
TZNAME:EST
DTSTART:20231105T060000
END:STANDARD
BEGIN:DAYLIGHT
TZOFFSETFROM:-0500
TZOFFSETTO:-0400
TZNAME:EDT
DTSTART:20240310T070000
END:DAYLIGHT
BEGIN:STANDARD
TZOFFSETFROM:-0400
TZOFFSETTO:-0500
TZNAME:EST
DTSTART:20241103T060000
END:STANDARD
BEGIN:DAYLIGHT
TZOFFSETFROM:-0500
TZOFFSETTO:-0400
TZNAME:EDT
DTSTART:20250309T070000
END:DAYLIGHT
BEGIN:STANDARD
TZOFFSETFROM:-0400
TZOFFSETTO:-0500
TZNAME:EST
DTSTART:20251102T060000
END:STANDARD
END:VTIMEZONE
BEGIN:VEVENT
DTSTART;TZID=America/New_York:20241214T100000
DTEND;TZID=America/New_York:20241214T140000
DTSTAMP:20260423T102105
CREATED:20241018T144034Z
LAST-MODIFIED:20241206T155515Z
UID:10000410-1734170400-1734184800@cameronartmuseum.org
SUMMARY:Kids at CAM: Minnie Evans Birthday Celebration
DESCRIPTION:Celebrate Minnie Evans’s life and legacy at this special edition of Kids@CAM! Kids can enjoy craft-making and a collaborative performance that emphasizes nature and the symmetry of Minnie Evan’s folk art through dance\, music\, and art. \n\n\n\n\nFrom 10:00 AM – 12:00 noon\, kids will be making cards and birthday gifts for Minnie. These cards will be displayed on a clothesline from the museum to Minnie’s Gatehouse!\nMembers: $5 per adult/child\nNot-Yet Members: $10 per adult/child\nFrom 1:00 PM – 2:00 PM\, participants can enjoy a dance performance\, Visions & Revelations\, presented by the Dance Theatre of DREAMS and choreographed by Lesa Broadhead. The performance features original music by Roger Davis and showcases the art of Cameron Batanides’ students from the MLK Community Center.\n$5 suggested donation\n\n\n\n\n\n\n\nREGISTER\n\nFor questions with this programming\, please contact Ashley Rowland at 910-726-9490 or education@cameronartmuseum.org
URL:https://cameronartmuseum.org/event/kids-at-cam-minnie-evans-birthday-celebration/
CATEGORIES:Kids@CAM
ATTACH;FMTTYPE=image/png:https://cameronartmuseum.org/wp-content/uploads/2024/10/CAM.png
END:VEVENT
END:VCALENDAR