BEGIN:VCALENDAR
VERSION:2.0
PRODID:-//Cameron Art Museum - ECPv6.15.20//NONSGML v1.0//EN
CALSCALE:GREGORIAN
METHOD:PUBLISH
X-WR-CALNAME:Cameron Art Museum
X-ORIGINAL-URL:https://cameronartmuseum.org
X-WR-CALDESC:Events for Cameron Art Museum
REFRESH-INTERVAL;VALUE=DURATION:PT1H
X-Robots-Tag:noindex
X-PUBLISHED-TTL:PT1H
BEGIN:VTIMEZONE
TZID:America/New_York
BEGIN:DAYLIGHT
TZOFFSETFROM:-0500
TZOFFSETTO:-0400
TZNAME:EDT
DTSTART:20230312T070000
END:DAYLIGHT
BEGIN:STANDARD
TZOFFSETFROM:-0400
TZOFFSETTO:-0500
TZNAME:EST
DTSTART:20231105T060000
END:STANDARD
BEGIN:DAYLIGHT
TZOFFSETFROM:-0500
TZOFFSETTO:-0400
TZNAME:EDT
DTSTART:20240310T070000
END:DAYLIGHT
BEGIN:STANDARD
TZOFFSETFROM:-0400
TZOFFSETTO:-0500
TZNAME:EST
DTSTART:20241103T060000
END:STANDARD
BEGIN:DAYLIGHT
TZOFFSETFROM:-0500
TZOFFSETTO:-0400
TZNAME:EDT
DTSTART:20250309T070000
END:DAYLIGHT
BEGIN:STANDARD
TZOFFSETFROM:-0400
TZOFFSETTO:-0500
TZNAME:EST
DTSTART:20251102T060000
END:STANDARD
END:VTIMEZONE
BEGIN:VEVENT
DTSTART;TZID=America/New_York:20240406T100000
DTEND;TZID=America/New_York:20240406T130000
DTSTAMP:20260420T085255
CREATED:20240322T185529Z
LAST-MODIFIED:20240327T175507Z
UID:10000214-1712397600-1712408400@cameronartmuseum.org
SUMMARY:Kids@CAM at Miracle Field
DESCRIPTION:Free \n  \nCameron Art Museum brings its family-friendly programming to Miracle Field. For this special event\, CAM will bring exciting and accessible art activities for all ages. This event is in partnership with ACCESS Wilmington. This Kids@CAM event is free for all who attend the games from 10 AM-1 PM. CAM is dedicated to providing accessible experiences for all members of our community.
URL:https://cameronartmuseum.org/event/kidscam-at-miracle-field/
CATEGORIES:Kids@CAM
ATTACH;FMTTYPE=image/jpeg:https://cameronartmuseum.org/wp-content/uploads/2024/03/20240406_PROGRAMS_KidsAtCAM-MiracleField.jpg
END:VEVENT
BEGIN:VEVENT
DTSTART;TZID=America/New_York:20240420T100000
DTEND;TZID=America/New_York:20240420T120000
DTSTAMP:20260420T085255
CREATED:20240327T192527Z
LAST-MODIFIED:20240327T192616Z
UID:10000235-1713607200-1713614400@cameronartmuseum.org
SUMMARY:Earth Day Kids@CAM
DESCRIPTION:CAM Members: $5 per child\nNot-Yet Members: $10 per child\nAdults and Children 2 and Under: Free \n  \n  \nApril Kids@CAM will have Earth Day inspired activities. Focusing on re-use\, all activities will re-use and re-imagine possibilities for materials. Families will create their own garden in bloom with plastic water bottles as the flowers. \nOnce a month Saturday programming for the whole family. Each month features a different theme and focus connected to the art on exhibit. Each event features several activities and a family-friendly tour at 10:30 AM and 11:30 AM. \n  \n  \nREGISTER \n  \n  \nFor questions or concerns regarding accessibility\, please contact Georgia Mastroieni\, Deputy Director of Operations at (910) 726-9492 or georgia@cameronartmuseum.org
URL:https://cameronartmuseum.org/event/earth-day-kidscam/
CATEGORIES:Kids@CAM
ATTACH;FMTTYPE=image/jpeg:https://cameronartmuseum.org/wp-content/uploads/2024/03/20240420_PROGRAMS_KidsAtCAM-EarthDay.jpg
END:VEVENT
END:VCALENDAR