BEGIN:VCALENDAR
VERSION:2.0
PRODID:-//Cameron Art Museum - ECPv6.15.20//NONSGML v1.0//EN
CALSCALE:GREGORIAN
METHOD:PUBLISH
X-ORIGINAL-URL:https://cameronartmuseum.org
X-WR-CALDESC:Events for Cameron Art Museum
REFRESH-INTERVAL;VALUE=DURATION:PT1H
X-Robots-Tag:noindex
X-PUBLISHED-TTL:PT1H
BEGIN:VTIMEZONE
TZID:America/New_York
BEGIN:DAYLIGHT
TZOFFSETFROM:-0500
TZOFFSETTO:-0400
TZNAME:EDT
DTSTART:20250309T070000
END:DAYLIGHT
BEGIN:STANDARD
TZOFFSETFROM:-0400
TZOFFSETTO:-0500
TZNAME:EST
DTSTART:20251102T060000
END:STANDARD
BEGIN:DAYLIGHT
TZOFFSETFROM:-0500
TZOFFSETTO:-0400
TZNAME:EDT
DTSTART:20260308T070000
END:DAYLIGHT
BEGIN:STANDARD
TZOFFSETFROM:-0400
TZOFFSETTO:-0500
TZNAME:EST
DTSTART:20261101T060000
END:STANDARD
BEGIN:DAYLIGHT
TZOFFSETFROM:-0500
TZOFFSETTO:-0400
TZNAME:EDT
DTSTART:20270314T070000
END:DAYLIGHT
BEGIN:STANDARD
TZOFFSETFROM:-0400
TZOFFSETTO:-0500
TZNAME:EST
DTSTART:20271107T060000
END:STANDARD
END:VTIMEZONE
BEGIN:VEVENT
DTSTART;TZID=America/New_York:20260514T100000
DTEND;TZID=America/New_York:20260514T110000
DTSTAMP:20260421T073156
CREATED:20260414T182705Z
LAST-MODIFIED:20260414T184419Z
UID:10001859-1778752800-1778756400@cameronartmuseum.org
SUMMARY:Mary's Art Explorers: Glorious Gloria
DESCRIPTION:Mary’s Art Explorers: Glorious Gloria\nJoin us for Mary’s Art Explorers on Thursday\, May 14th\, from 10:00 to 11:00 AM outside in our Courtyard. We will have a special guest\, author Erika Tully\, reading her own book\, Glorious Gloria. Erika will also be doing an interactive puppet show during the story. After\, participants will create their own puppets! \n \nThis storytime session is perfect for infants\, toddlers\, and preschoolers\, though older siblings are welcome to join. Your registration includes admission to the museum for the whole day\, so you and your little ones can continue exploring after the program. Space is limited\, so preregister to guarantee your spot! \n \n\n\nAdult Members: FREE; Adult Non-Members: $5\n\n\nChildren: $5 each\n\n\nChildren under 2: FREE \n\n\n*EBT Card Holders FREE\n\n\nPre-register at the link below to secure your spot! \nNon-Members: Register Here\nMembers: Register Here\nIt is with great honor that Cameron Art Museum pays tribute to Mary Cameron Hoey by naming its most popular and long-standing family program after her. Mary’s Art Explorers is a story time\, art-making\, and museum exploration program. \nYou can learn more about CAM programs and events here.
URL:https://cameronartmuseum.org/event/marys-art-explorers-glorious-gloria/
LOCATION:Cameron Art Museum\, 3201 S 17th Street\, Wilmington\, NC\, 28412\, United States
CATEGORIES:Families,Mary's Art Explorers
ATTACH;FMTTYPE=image/jpeg:https://cameronartmuseum.org/wp-content/uploads/2026/01/Marys-Art-Explorers-Web-Graphics-May-Aug.jpg
END:VEVENT
BEGIN:VEVENT
DTSTART;TZID=America/New_York:20260523T100000
DTEND;TZID=America/New_York:20260523T120000
DTSTAMP:20260421T073156
CREATED:20260415T133439Z
LAST-MODIFIED:20260415T142548Z
UID:10001863-1779530400-1779537600@cameronartmuseum.org
SUMMARY:Kids at CAM: Magic\, Light\, and Sacred Geometry
DESCRIPTION:Kids at CAM: Magic\, Light\, and Sacred Geometry\nSaturday\, May 23 | 10 AM-12 PM | Reception Hall \nInspired by artist Fred Kahl and his Magic\, Light\, and Sacred Geometry exhibition\, this month’s Kids at CAM\, we will be working with spirographs and creating stained “glass” art. \nKids@CAM is an event for everyone\, parents included! We will have activities for different ages and a family-friendly tour of the exhibition\, Magic\, Light\, and Sacred Geometry\, at 11:30 AM. Join us for the art activities\, the tour\, or both! \nAdult member: free; Adult non-member: $5\nChildren: $10\nChildren under 2: Free\n*EBT Card Holders FREE \nNON-MEMBER REGISTRATION \n\n\n\nMEMBER REGISTRATION \n\n\n\n\n\nFor more family-friendly programs & events\, visit CameronArtMuseum.org/CAMIsForKids \n\nFor questions with this programming\, please contact education@cameronartmuseum.org
URL:https://cameronartmuseum.org/event/kids-at-cam-magic-light-sacred-geometry/
CATEGORIES:Families,Kids@CAM
ATTACH;FMTTYPE=image/jpeg:https://cameronartmuseum.org/wp-content/uploads/2026/04/Kid@CAM-May.jpg
END:VEVENT
BEGIN:VEVENT
DTSTART;TZID=America/New_York:20260528T100000
DTEND;TZID=America/New_York:20260528T110000
DTSTAMP:20260421T073156
CREATED:20260414T194613Z
LAST-MODIFIED:20260414T194613Z
UID:10001861-1779962400-1779966000@cameronartmuseum.org
SUMMARY:Mary's Art Explorers: We Love Dinosaurs
DESCRIPTION:Mary’s Art Explorers: We Love Dinosaurs\nJoin us for Mary’s Art Explorers on Thursday\, May 28th\, from 10:00 to 11:00 AM outside in our Courtyard. Pine Valley Public Library’s Miss Clelia will be our guest reader this week! We are proud collaborators with the New Hanover Public Library for their summer reading theme “Unearth a Story.” We’ll be reading We Love Dinosaurs by Lucy Volpin. After\, guests will create their own fossils! \n \nThis storytime session is perfect for infants\, toddlers\, and preschoolers\, though older siblings are welcome to join. Your registration includes admission to the museum for the whole day\, so you and your little ones can continue exploring after the program. Space is limited\, so preregister to guarantee your spot! \n\n\n\nAdult Members: FREE; Adult Non-Members: $5\n\n\nChildren: $5 each\n\n\nChildren under 2: FREE \n\n\n*EBT Card Holders FREE\n\n\nPre-register at the link below to secure your spot! \nNon-Members: Register Here\nMembers: Register Here\nIt is with great honor that Cameron Art Museum pays tribute to Mary Cameron Hoey by naming its most popular and long-standing family program after her. Mary’s Art Explorers is a story time\, art making\, and museum exploration program. \nYou can learn more about CAM programs and events here.
URL:https://cameronartmuseum.org/event/marys-art-explorers-we-love-dinosaurs/
LOCATION:Cameron Art Museum\, 3201 S 17th Street\, Wilmington\, NC\, 28412\, United States
CATEGORIES:Families,Mary's Art Explorers
ATTACH;FMTTYPE=image/jpeg:https://cameronartmuseum.org/wp-content/uploads/2026/01/Marys-Art-Explorers-Web-Graphics-May-Aug.jpg
END:VEVENT
END:VCALENDAR