BEGIN:VCALENDAR
VERSION:2.0
PRODID:-//Cameron Art Museum - ECPv6.15.20//NONSGML v1.0//EN
CALSCALE:GREGORIAN
METHOD:PUBLISH
X-ORIGINAL-URL:https://cameronartmuseum.org
X-WR-CALDESC:Events for Cameron Art Museum
REFRESH-INTERVAL;VALUE=DURATION:PT1H
X-Robots-Tag:noindex
X-PUBLISHED-TTL:PT1H
BEGIN:VTIMEZONE
TZID:America/New_York
BEGIN:DAYLIGHT
TZOFFSETFROM:-0500
TZOFFSETTO:-0400
TZNAME:EDT
DTSTART:20250309T070000
END:DAYLIGHT
BEGIN:STANDARD
TZOFFSETFROM:-0400
TZOFFSETTO:-0500
TZNAME:EST
DTSTART:20251102T060000
END:STANDARD
BEGIN:DAYLIGHT
TZOFFSETFROM:-0500
TZOFFSETTO:-0400
TZNAME:EDT
DTSTART:20260308T070000
END:DAYLIGHT
BEGIN:STANDARD
TZOFFSETFROM:-0400
TZOFFSETTO:-0500
TZNAME:EST
DTSTART:20261101T060000
END:STANDARD
BEGIN:DAYLIGHT
TZOFFSETFROM:-0500
TZOFFSETTO:-0400
TZNAME:EDT
DTSTART:20270314T070000
END:DAYLIGHT
BEGIN:STANDARD
TZOFFSETFROM:-0400
TZOFFSETTO:-0500
TZNAME:EST
DTSTART:20271107T060000
END:STANDARD
END:VTIMEZONE
BEGIN:VEVENT
DTSTART;TZID=America/New_York:20260307T100000
DTEND;TZID=America/New_York:20260307T140000
DTSTAMP:20260424T083049
CREATED:20260210T213058Z
LAST-MODIFIED:20260326T104452Z
UID:10001532-1772877600-1772892000@cameronartmuseum.org
SUMMARY:Music & Mimosas at CAM Café
DESCRIPTION:Music & Mimosas at CAM Café\nMarch 7\, 10 AM – 2 PM \nStart your Saturday with art\, music\, and brunch! Join us on the first Saturday of every month for Music & Mimosas at CAM Café\, located inside Cameron Art Museum. \nEnjoy a delicious brunch menu paired with specialty mimosas in seasonal flavors\, while live music sets the mood from 11 AM to 1 PM. \nDetails: \n\nBrunch served 10 AM – 2 PM\nLive acoustic music by Robert Bosco from 11 AM – 1 PM\nMuseum is open 10 AM – 5 PM\nTakes place at CAM Café\, inside Cameron Art Museum\nYou don’t need a museum membership or pay admission to enjoy CAM Café!\nYour Café purchase includes complimentary access to the galleries.\n\nMusic & Mimosas takes place on the first Saturday of each month. Gather your friends and join us for a Saturday you won’t want to miss! \nFor reservations\, call the café at (910) 777-2363.  \nCAM Café is open from 10 AM – 2 PM for brunch. \nFor our menu and more info\, click here.
URL:https://cameronartmuseum.org/event/music-mimosas-at-cam-cafe-4/
LOCATION:Cameron Art Museum\, 3201 S 17th St\, Wilmington\, NC\, 28412\, United States
CATEGORIES:CAM Café
ATTACH;FMTTYPE=image/jpeg:https://cameronartmuseum.org/wp-content/uploads/2025/07/Music-Mimosas-Simple-1.jpg
END:VEVENT
BEGIN:VEVENT
DTSTART;TZID=America/New_York:20260312T180000
DTEND;TZID=America/New_York:20260312T200000
DTSTAMP:20260424T083049
CREATED:20260114T180925Z
LAST-MODIFIED:20260326T105407Z
UID:10001318-1773338400-1773345600@cameronartmuseum.org
SUMMARY:Live! at CAM Café: Raphael Name
DESCRIPTION:Join us on Thursday evening for Live! at CAM Café. Every Thursday night\, enjoy live acoustic music during dinner at the CAM Café located inside the museum. Each week features a talented local artist\, creating the perfect backdrop for your dining experience. This week\, enjoy acoustic music by Raphael Name as you enjoy a delicious dinner and cocktail in a beautiful setting. \nPlus\, receive FREE gallery admission with every café purchase! \n  \nMake your dinner reservation by calling the café at (910) 777-2363.  \n  \nCAM Café is open from 5-8 PM for dinner. Bar opens at 4 PM. \nThere will be no live musician at the café on Thursday nights when Jazz at CAM is scheduled. \nFor our menu and more info\, click here. \n  \n 
URL:https://cameronartmuseum.org/event/live-at-cam-cafe-2/
LOCATION:Cameron Art Museum\, 3201 S 17th St\, Wilmington\, NC\, 28412\, United States
CATEGORIES:CAM Café
ATTACH;FMTTYPE=image/png:https://cameronartmuseum.org/wp-content/uploads/2026/01/Live-at-CAM-Cafe-Web-Image.png
END:VEVENT
BEGIN:VEVENT
DTSTART;TZID=America/New_York:20260319T180000
DTEND;TZID=America/New_York:20260319T200000
DTSTAMP:20260424T083049
CREATED:20260114T181041Z
LAST-MODIFIED:20260326T105358Z
UID:10001319-1773943200-1773950400@cameronartmuseum.org
SUMMARY:Live! at CAM Café: Roger Davis
DESCRIPTION:Join us on Thursday evening for Live! at CAM Café. Every Thursday night\, enjoy live acoustic music during dinner at the CAM Café located inside the museum. Each week features a talented local artist\, creating the perfect backdrop for your dining experience. This week\, enjoy acoustic music by Roger Davis as you enjoy a delicious dinner and cocktail in a beautiful setting. \nPlus\, receive FREE gallery admission with every café purchase! \n  \nMake your dinner reservation by calling the café at (910) 777-2363.  \n  \nCAM Café is open from 5-8 PM for dinner. Bar opens at 4 PM. \nThere will be no live musician at the café on Thursday nights when Jazz at CAM is scheduled. \nFor our menu and more info\, click here. \n  \n 
URL:https://cameronartmuseum.org/event/live-at-cam-cafe-3/
LOCATION:Cameron Art Museum\, 3201 S 17th St\, Wilmington\, NC\, 28412\, United States
CATEGORIES:CAM Café
ATTACH;FMTTYPE=image/png:https://cameronartmuseum.org/wp-content/uploads/2026/01/Live-at-CAM-Cafe-Web-Image.png
END:VEVENT
BEGIN:VEVENT
DTSTART;TZID=America/New_York:20260326T180000
DTEND;TZID=America/New_York:20260326T200000
DTSTAMP:20260424T083049
CREATED:20260114T181210Z
LAST-MODIFIED:20260326T105348Z
UID:10001320-1774548000-1774555200@cameronartmuseum.org
SUMMARY:Live! at CAM Café: Aaron Keener
DESCRIPTION:Join us on Thursday evening for Live! at CAM Café. Every Thursday night\, enjoy live acoustic music during dinner at the CAM Café located inside the museum. Each week features a talented local artist\, creating the perfect backdrop for your dining experience. This week\, enjoy acoustic music by Aaron Keener as you enjoy a delicious dinner and cocktail in a beautiful setting. \nPlus\, receive FREE gallery admission with every café purchase! \n  \nMake your dinner reservation by calling the café at (910) 777-2363.  \n  \nCAM Café is open from 5-8 PM for dinner. Bar opens at 4 PM. \nThere will be no live musician at the café on Thursday nights when Jazz at CAM is scheduled. \nFor our menu and more info\, click here. \n  \n 
URL:https://cameronartmuseum.org/event/live-at-cam-cafe-4/
LOCATION:Cameron Art Museum\, 3201 S 17th St\, Wilmington\, NC\, 28412\, United States
CATEGORIES:CAM Café
ATTACH;FMTTYPE=image/png:https://cameronartmuseum.org/wp-content/uploads/2026/01/Live-at-CAM-Cafe-Web-Image.png
END:VEVENT
END:VCALENDAR