BEGIN:VCALENDAR
VERSION:2.0
PRODID:-//Cameron Art Museum - ECPv6.15.20//NONSGML v1.0//EN
CALSCALE:GREGORIAN
METHOD:PUBLISH
X-WR-CALNAME:Cameron Art Museum
X-ORIGINAL-URL:https://cameronartmuseum.org
X-WR-CALDESC:Events for Cameron Art Museum
REFRESH-INTERVAL;VALUE=DURATION:PT1H
X-Robots-Tag:noindex
X-PUBLISHED-TTL:PT1H
BEGIN:VTIMEZONE
TZID:America/New_York
BEGIN:DAYLIGHT
TZOFFSETFROM:-0500
TZOFFSETTO:-0400
TZNAME:EDT
DTSTART:20250309T070000
END:DAYLIGHT
BEGIN:STANDARD
TZOFFSETFROM:-0400
TZOFFSETTO:-0500
TZNAME:EST
DTSTART:20251102T060000
END:STANDARD
BEGIN:DAYLIGHT
TZOFFSETFROM:-0500
TZOFFSETTO:-0400
TZNAME:EDT
DTSTART:20260308T070000
END:DAYLIGHT
BEGIN:STANDARD
TZOFFSETFROM:-0400
TZOFFSETTO:-0500
TZNAME:EST
DTSTART:20261101T060000
END:STANDARD
BEGIN:DAYLIGHT
TZOFFSETFROM:-0500
TZOFFSETTO:-0400
TZNAME:EDT
DTSTART:20270314T070000
END:DAYLIGHT
BEGIN:STANDARD
TZOFFSETFROM:-0400
TZOFFSETTO:-0500
TZNAME:EST
DTSTART:20271107T060000
END:STANDARD
END:VTIMEZONE
BEGIN:VEVENT
DTSTART;TZID=America/New_York:20260418T100000
DTEND;TZID=America/New_York:20260418T120000
DTSTAMP:20260424T092847
CREATED:20260317T180412Z
LAST-MODIFIED:20260317T180412Z
UID:10001571-1776506400-1776513600@cameronartmuseum.org
SUMMARY:Kids at CAM: Earth Day
DESCRIPTION:Kids at CAM: Earth Day\nSaturday\, April 18 | 10 AM-12 PM | Reception Hall \nCelebrating Earth Day at this special Kids@CAM! The whole family is invited to join us in creating nature-inspired art using recycled and repurposed materials.  \nKids@CAM is an event for everyone\, parents included! We will have activities for different ages and a family-friendly tour of the exhibition From Mountains to Sea at 11:30 AM. Join us for the art activities\, the tour\, or both! \nAdult member: free; Adult non-member: $5\nChildren: $10\nChildren under 2: Free\n*EBT Card Holders FREE \nNON-MEMBER REGISTRATION \n\n\n\nMEMBER REGISTRATION \n\n\n\n\n\nFor more family-friendly programs & events\, visit CameronArtMuseum.org/CAMIsForKids \n\nFor questions with this programming\, please contact education@cameronartmuseum.org
URL:https://cameronartmuseum.org/event/earth-day-kidscam-2/
CATEGORIES:Families,Kids@CAM
ATTACH;FMTTYPE=image/png:https://cameronartmuseum.org/wp-content/uploads/2026/03/Kids-at-CAM-Living-History-WEB.png
END:VEVENT
END:VCALENDAR