BEGIN:VCALENDAR
VERSION:2.0
PRODID:-//Cameron Art Museum - ECPv6.15.20//NONSGML v1.0//EN
CALSCALE:GREGORIAN
METHOD:PUBLISH
X-WR-CALNAME:Cameron Art Museum
X-ORIGINAL-URL:https://cameronartmuseum.org
X-WR-CALDESC:Events for Cameron Art Museum
REFRESH-INTERVAL;VALUE=DURATION:PT1H
X-Robots-Tag:noindex
X-PUBLISHED-TTL:PT1H
BEGIN:VTIMEZONE
TZID:America/New_York
BEGIN:DAYLIGHT
TZOFFSETFROM:-0500
TZOFFSETTO:-0400
TZNAME:EDT
DTSTART:20250309T070000
END:DAYLIGHT
BEGIN:STANDARD
TZOFFSETFROM:-0400
TZOFFSETTO:-0500
TZNAME:EST
DTSTART:20251102T060000
END:STANDARD
BEGIN:DAYLIGHT
TZOFFSETFROM:-0500
TZOFFSETTO:-0400
TZNAME:EDT
DTSTART:20260308T070000
END:DAYLIGHT
BEGIN:STANDARD
TZOFFSETFROM:-0400
TZOFFSETTO:-0500
TZNAME:EST
DTSTART:20261101T060000
END:STANDARD
BEGIN:DAYLIGHT
TZOFFSETFROM:-0500
TZOFFSETTO:-0400
TZNAME:EDT
DTSTART:20270314T070000
END:DAYLIGHT
BEGIN:STANDARD
TZOFFSETFROM:-0400
TZOFFSETTO:-0500
TZNAME:EST
DTSTART:20271107T060000
END:STANDARD
END:VTIMEZONE
BEGIN:VEVENT
DTSTART;TZID=America/New_York:20260305T190000
DTEND;TZID=America/New_York:20260305T210000
DTSTAMP:20260420T090706
CREATED:20250812T171346Z
LAST-MODIFIED:20260326T105644Z
UID:10000594-1772737200-1772744400@cameronartmuseum.org
SUMMARY:Jazz at CAM: Lynn Grissett Quartet
DESCRIPTION:Jazz at CAM with the Lynn Grissett Quartet\n\n\nThursday\, March 5 | 7 PM \n\n\n\n\nJoin us for Jazz at CAM as we present the Lynn Grissett Quartet!  \n\n\n\n\n\n\n\nExpect a powerhouse performance from a trumpet virtuoso who has toured the world with Prince’s New Power Generation and shared the stage with jazz greats like Branford Marsalis and Terri Lyne Carrington. Blending technical mastery with soulful expression\, Lynn Grissett brings an electrifying mix of jazz tradition\, funk energy\, and genre-bending versatility to the stage. \n\n\n\n\n\n\n\nJazz at CAM is must for jazz lovers in the Wilmington area! \nCAM Café is open for dinner the night of jazz performances. If you’d like to have dinner before the show\, please reserve a table by calling (910) 777-2363. If attending the jazz show\, we recommend making your reservation time no later than 6 PM to ensure you make it to the performance on time. \nTICKETS\nCAM Members: $40\nNot-Yet Members: $60\nStudents and Educators: $15 \n\nABOUT THE MUSICIAN\n\n\nBorn in Wilmington\, NC\, Lynn J. Grissett Jr. is a formally trained\, dedicated musician whose first love is jazz but whose versatility spans all genres. A 2003 graduate of West Brunswick High School\, he went on to earn his B.A. in Music Performance (Jazz Studies) from UNC Greensboro’s Miles Davis Jazz Studies Program and an M.M. in Music Performance (Jazz Studies) from North Carolina Central University\, studying with Branford Marsalis\, Robert Trowers\, Dr. Ira Wiggins\, Brian Horton\, and Baron Tymas. \nIn addition to trumpet\, Grissett is an accomplished saxophonist and has performed with an extraordinary roster of artists including Stevie Wonder\, Nile Rodgers\, Maceo Parker\, Trombone Shorty\, Marcus Anderson\, the Marsalis family\, Terri Lyne Carrington\, and Max Weinberg. He is a longtime member of the New Power Generation Hornz\, the horn section of Prince’s legendary band\, appearing on Hit N Run Phase One & Two and touring internationally to festivals such as Montreux\, North Sea\, and Essence. His television appearances include Jimmy Kimmel Live and The Arsenio Hall Show. \nFrom leading his own trio and quartet to performing with elite jazz ensembles\, Grissett brings technical mastery\, deep musicality\, and an electrifying stage presence to every performance. \n\n\n\n\n\n\n  \n\n\nJazz at CAM is sponsored in part by \n \nAnd through the generosity of these individuals:\nDr. William Malloy\nMs. Maxine Terry
URL:https://cameronartmuseum.org/event/jazz-at-cam-lynn-grissett/
LOCATION:Cameron Art Museum\, 3201 S 17th St\, Wilmington\, NC\, 28412\, United States
CATEGORIES:Jazz at CAM
ATTACH;FMTTYPE=image/jpeg:https://cameronartmuseum.org/wp-content/uploads/2025/08/9_4-Jazz@CAM-Rahsaan-Barber-Quartet-Roland-Barber-4.jpg
END:VEVENT
END:VCALENDAR